BEGIN:VCALENDAR
VERSION:2.0
PRODID:-//NADI Pengkalan Kubor - ECPv6.15.20//NONSGML v1.0//EN
CALSCALE:GREGORIAN
METHOD:PUBLISH
X-WR-CALNAME:NADI Pengkalan Kubor
X-ORIGINAL-URL:https://pengkalankubor.nadi.my
X-WR-CALDESC:Events for NADI Pengkalan Kubor
REFRESH-INTERVAL;VALUE=DURATION:PT1H
X-Robots-Tag:noindex
X-PUBLISHED-TTL:PT1H
BEGIN:VTIMEZONE
TZID:Asia/Kuala_Lumpur
BEGIN:STANDARD
TZOFFSETFROM:+0800
TZOFFSETTO:+0800
TZNAME:+08
DTSTART:20250101T000000
END:STANDARD
END:VTIMEZONE
BEGIN:VEVENT
DTSTART;TZID=Asia/Kuala_Lumpur:20260426T090000
DTEND;TZID=Asia/Kuala_Lumpur:20260426T180000
DTSTAMP:20260426T084252
CREATED:20260401T041847Z
LAST-MODIFIED:20260401T041847Z
UID:3810-1777194000-1777226400@pengkalankubor.nadi.my
SUMMARY:STEM & IOT
DESCRIPTION:
URL:https://pengkalankubor.nadi.my/event/stem-iot-45/
END:VEVENT
BEGIN:VEVENT
DTSTART;TZID=Asia/Kuala_Lumpur:20260430T090000
DTEND;TZID=Asia/Kuala_Lumpur:20260430T180000
DTSTAMP:20260426T084252
CREATED:20260401T041903Z
LAST-MODIFIED:20260401T041903Z
UID:3813-1777539600-1777572000@pengkalankubor.nadi.my
SUMMARY:SOFT SKILLS
DESCRIPTION:
URL:https://pengkalankubor.nadi.my/event/soft-skills-10/
END:VEVENT
END:VCALENDAR